BEGIN:VCALENDAR
VERSION:2.0
PRODID:-//Living Houston Real Estate - ECPv6.15.20//NONSGML v1.0//EN
CALSCALE:GREGORIAN
METHOD:PUBLISH
X-ORIGINAL-URL:https://livinghouston.com
X-WR-CALDESC:Events for Living Houston Real Estate
REFRESH-INTERVAL;VALUE=DURATION:PT1H
X-Robots-Tag:noindex
X-PUBLISHED-TTL:PT1H
BEGIN:VTIMEZONE
TZID:America/Chicago
BEGIN:DAYLIGHT
TZOFFSETFROM:-0600
TZOFFSETTO:-0500
TZNAME:CDT
DTSTART:20210314T080000
END:DAYLIGHT
BEGIN:STANDARD
TZOFFSETFROM:-0500
TZOFFSETTO:-0600
TZNAME:CST
DTSTART:20211107T070000
END:STANDARD
BEGIN:DAYLIGHT
TZOFFSETFROM:-0600
TZOFFSETTO:-0500
TZNAME:CDT
DTSTART:20220313T080000
END:DAYLIGHT
BEGIN:STANDARD
TZOFFSETFROM:-0500
TZOFFSETTO:-0600
TZNAME:CST
DTSTART:20221106T070000
END:STANDARD
BEGIN:DAYLIGHT
TZOFFSETFROM:-0600
TZOFFSETTO:-0500
TZNAME:CDT
DTSTART:20230312T080000
END:DAYLIGHT
BEGIN:STANDARD
TZOFFSETFROM:-0500
TZOFFSETTO:-0600
TZNAME:CST
DTSTART:20231105T070000
END:STANDARD
END:VTIMEZONE
BEGIN:VEVENT
DTSTART;TZID=America/Chicago:20220609T080000
DTEND;TZID=America/Chicago:20220609T110000
DTSTAMP:20260420T081105
CREATED:20220513T201755Z
LAST-MODIFIED:20220513T201755Z
UID:1510-1654761600-1654772400@livinghouston.com
SUMMARY:Botox & Bubbles
DESCRIPTION:Join us for Botox & Bubbles at Living Houston! This event will have bubbles\, light bites\, and discounted services. Join us for an afternoon of treating yourself sponsored by Revolution Mortgage and Priority Settlement Group of Texas! Please email mckenzie@livinghouston.com with any questions.
URL:https://livinghouston.com/event/botox-bubbles/
LOCATION:Living Houston Real Estate Headquarters\, 131 Brooks St Suite 100\, Sugar Land\, TX\, 77478\, United States
CATEGORIES:Public Events for Agents,Public Events for Everyone
ATTACH;FMTTYPE=image/jpeg:https://livinghouston.com/wp-content/uploads/2022/05/image002-scaled.jpg
ORGANIZER;CN="Laura Weisman":MAILTO:Laura@LivingHouston.com
END:VEVENT
BEGIN:VEVENT
DTSTART;TZID=America/Chicago:20220608T050000
DTEND;TZID=America/Chicago:20220608T063000
DTSTAMP:20260420T081105
CREATED:20220513T201346Z
LAST-MODIFIED:20220531T210039Z
UID:1508-1654664400-1654669800@livinghouston.com
SUMMARY:The Importance of Staging with Debonair Home Staging & Redesign
DESCRIPTION:Join us for a class on the importance and impact of staging with Debonair Home Staging and Redesign owner\, Deborah Plowden! Please email McKenzie King at mckenzie@livinghouston.com with any questions.
URL:https://livinghouston.com/event/the-importance-of-staging-with-debonair-home-staging-redesign/
LOCATION:Living Houston Real Estate Headquarters\, 131 Brooks St Suite 100\, Sugar Land\, TX\, 77478\, United States
CATEGORIES:Public Events for Agents,Public Events for Everyone
ATTACH;FMTTYPE=image/jpeg:https://livinghouston.com/wp-content/uploads/2021/11/alberto-castillo-q-mx4mSkK9zeo-unsplash-scaled.jpg
ORGANIZER;CN="Laura Weisman":MAILTO:Laura@LivingHouston.com
END:VEVENT
BEGIN:VEVENT
DTSTART;TZID=America/Chicago:20220526T053000
DTEND;TZID=America/Chicago:20220526T073000
DTSTAMP:20260420T081105
CREATED:20220513T200909Z
LAST-MODIFIED:20220513T200909Z
UID:1506-1653543000-1653550200@livinghouston.com
SUMMARY:The Pathway to Luxury Real Estate Marketing with BRPS
DESCRIPTION:Join us for a 2 hour CE course with BRPS on the pathway to luxury marketing in real estate! Please email McKenzie King at mckenzie@livinghouston.com with any questions.
URL:https://livinghouston.com/event/the-pathway-to-luxury-real-estate-marketing-with-brps/
LOCATION:Living Houston Real Estate Headquarters\, 131 Brooks St Suite 100\, Sugar Land\, TX\, 77478\, United States
CATEGORIES:Public Events for Agents,Public Events for Everyone
ATTACH;FMTTYPE=image/jpeg:https://livinghouston.com/wp-content/uploads/2021/06/ralph-ravi-kayden-mR1CIDduGLc-unsplash-scaled.jpg
ORGANIZER;CN="Laura Weisman":MAILTO:Laura@LivingHouston.com
END:VEVENT
BEGIN:VEVENT
DTSTART;TZID=America/Chicago:20220518T040000
DTEND;TZID=America/Chicago:20220518T110000
DTSTAMP:20260420T081105
CREATED:20220223T210253Z
LAST-MODIFIED:20220526T192556Z
UID:1391-1652846400-1652871600@livinghouston.com
SUMMARY:Mini-Series Workshop
DESCRIPTION:Mini-Series Workshop: Session 1 \n9AM-12PM\n\n\nTips to Writing a Winning Offer\nSuccessfully Showing a Property\nOpen House Strategy\n\nLUNCH 12PM – 1PM\n\nMini-Series Workshop: Session 2 \n1PM-4PM\n\nPhoto Prep & Listing Prep\nWorking a Seller Net Sheet\nSelecting an Offer for Your Seller
URL:https://livinghouston.com/event/mini-series-workshop-2/
LOCATION:Living Houston Real Estate Headquarters\, 131 Brooks St Suite 100\, Sugar Land\, TX\, 77478\, United States
CATEGORIES:Public Events for Agents,Public Events for Everyone
ATTACH;FMTTYPE=image/jpeg:https://livinghouston.com/wp-content/uploads/2022/02/Mini-Series-Workshop-Calendar-Image.jpg
ORGANIZER;CN="Laura Weisman":MAILTO:Laura@LivingHouston.com
END:VEVENT
END:VCALENDAR